BEGIN:VCALENDAR
VERSION:2.0
PRODID:-//ChamberMaster//Event Calendar 2.0//EN
METHOD:PUBLISH
X-PUBLISHED-TTL:P3D
REFRESH-INTERVAL:P3D
CALSCALE:GREGORIAN
BEGIN:VEVENT
DTSTART:20260318T163000Z
DTEND:20260318T183000Z
X-MICROSOFT-CDO-ALLDAYEVENT:FALSE
SUMMARY:2026 What's Happening in Lombard Luncheon
DESCRIPTION:REGISTRATION FOR THIS EVENT IS NOW CLOSED\n\n\n\nStay informed about Lombard's growth and future plans at this always informative and engaging luncheon! Connect with fellow Chamber members and the community while gaining insights from Trevor Dick\, Director of Community Development with the Village of Lombard\, in an interactive discussion on what's developing in our village.\n\n\n\nWed\, March 18\, 2026\n\nRegistration Begins at 11:30am\n\nLunch at Noon\n\nCarlisle Banquets\n\n435 Butterfield Road\n\nLombard\, IL 60148\n\nMembers $55 each\n\nNon-Members $60 each
X-ALT-DESC;FMTTYPE=text/html:<p><span style="font-size:18px\;"><strong><span style="color:#FF0000\;">REGISTRATION FOR THIS EVENT IS NOW CLOSED</span></strong></span><br />\n<br />\n<span style="font-size:16px\;"><span style="font-family:arial\;"><span class="OYPEnA font-feature-liga-off font-feature-clig-off font-feature-calt-off text-decoration-none text-strikethrough-none" style="font-kerning: none\;">Stay informed about Lombard&rsquo\;s growth and future plans at this always informative and engaging luncheon! Connect with fellow Chamber members and the community while gaining insights from </span><span class="OYPEnA font-feature-liga-off font-feature-clig-off font-feature-calt-off text-decoration-none text-strikethrough-none" style="font-weight: 700\; font-kerning: none\;">Trevor Dick\, Director of Community Development with the Village of Lombard</span><span class="OYPEnA font-feature-liga-off font-feature-clig-off font-feature-calt-off text-decoration-none text-strikethrough-none" style="font-kerning: none\;">\, in an interactive discussion on what&rsquo\;s developing in our village.</span></span></span><br />\n<br />\n<span style="font-size:16px\;"><span style="font-family:arial\;">Wed\, March 18\, 2026<br />\nRegistration Begins at 11:30am<br style="font-family: arial\; font-size: 16px\;" />\nLunch at Noon</span></span></p>\n\n<p><span style="font-size:16px\;"><span style="font-family:arial\;">Carlisle Banquets<br />\n435 Butterfield Road<br style="font-family: arial\; font-size: 16px\;" />\nLombard\, IL 60148</span></span></p>\n\n<p><span style="font-size:16px\;"><span style="font-family:arial\;">Members $55 each<br style="font-family: arial\; font-size: 16px\;" />\nNon-Members $60 each</span></span><br />\n<br />\n&nbsp\;</p>\n<scribe-shadow data-crx="okfkdaglfjjjfefdcppliegebpoegaii" id="crxjs-ext" style="position: fixed\; width: 0px\; height: 0px\; top: 0px\; left: 0px\; z-index: 2147483647\; overflow: visible\; visibility: visible\;"></scribe-shadow>
LOCATION:Carlisle Banquets 435 Butterfield Road Lombard\, IL 60148
UID:e.508.128657
SEQUENCE:3
DTSTAMP:20260420T104129Z
URL:http://business.lombardchamber.com/events/details/2026-what-s-happening-in-lombard-luncheon-128657
END:VEVENT

END:VCALENDAR
