BEGIN:VCALENDAR
VERSION:2.0
PRODID:-//ChamberMaster//Event Calendar 2.0//EN
METHOD:PUBLISH
X-PUBLISHED-TTL:P3D
REFRESH-INTERVAL:P3D
CALSCALE:GREGORIAN
BEGIN:VEVENT
DTSTART:20020814T063000Z
DTEND:20020814T063000Z
X-MICROSOFT-CDO-ALLDAYEVENT:FALSE
SUMMARY:2002 Golf Outing Sponsors/Goodie Bags
DESCRIPTION:
X-ALT-DESC;FMTTYPE=text/html:
LOCATION:
UID:e.508.36102
SEQUENCE:3
DTSTAMP:20260424T204500Z
URL:https://business.lombardchamber.com/events/details/2002-golf-outing-sponsors-goodie-bags-08-14-2002-36102
END:VEVENT

END:VCALENDAR
