BEGIN:VCALENDAR
VERSION:2.0
PRODID:-//ChamberMaster//Event Calendar 2.0//EN
METHOD:PUBLISH
X-PUBLISHED-TTL:P3D
REFRESH-INTERVAL:P3D
CALSCALE:GREGORIAN
BEGIN:VEVENT
DTSTART:20020814T180000Z
DTEND:20020814T180000Z
X-MICROSOFT-CDO-ALLDAYEVENT:FALSE
SUMMARY:2002 Golf Outing Tee Sponsors
DESCRIPTION:
X-ALT-DESC;FMTTYPE=text/html:
LOCATION:Western Acres Golf Course
UID:e.508.35975
SEQUENCE:3
DTSTAMP:20260424T204231Z
URL:https://business.lombardchamber.com/events/details/2002-golf-outing-tee-sponsors-08-14-2002-35975
END:VEVENT

END:VCALENDAR
