BEGIN:VCALENDAR
VERSION:2.0
PRODID:-//ChamberMaster//Event Calendar 2.0//EN
METHOD:PUBLISH
X-PUBLISHED-TTL:P3D
REFRESH-INTERVAL:P3D
CALSCALE:GREGORIAN
BEGIN:VEVENT
DTSTART:20050927T160000Z
DTEND:20050927T230000Z
X-MICROSOFT-CDO-ALLDAYEVENT:FALSE
SUMMARY:2005 Business Expo
DESCRIPTION:
X-ALT-DESC;FMTTYPE=text/html:
LOCATION:The Carlisle\, 435 Butterfield Road\, Lombard\, IL 60148
UID:e.508.72415
SEQUENCE:3
DTSTAMP:20260420T201635Z
URL:https://business.lombardchamber.com/events/details/2005-business-expo-09-27-2005-72415
END:VEVENT

END:VCALENDAR
