BEGIN:VCALENDAR
VERSION:2.0
PRODID:-//ChamberMaster//Event Calendar 2.0//EN
METHOD:PUBLISH
X-PUBLISHED-TTL:P3D
REFRESH-INTERVAL:P3D
CALSCALE:GREGORIAN
BEGIN:VEVENT
DTSTART:20051218T210000Z
DTEND:20051219T010000Z
X-MICROSOFT-CDO-ALLDAYEVENT:FALSE
SUMMARY:2005 Holiday Boutique
DESCRIPTION:
X-ALT-DESC;FMTTYPE=text/html:
LOCATION:Eastgate Shopping Mall\, 837 S. Westmore/Meyers Road\, Lombard\, IL 60148
UID:e.508.85560
SEQUENCE:3
DTSTAMP:20260421T012335Z
URL:https://business.lombardchamber.com/events/details/2005-holiday-boutique-12-18-2005-85560
END:VEVENT

END:VCALENDAR
