BEGIN:VCALENDAR
VERSION:2.0
PRODID:-//ChamberMaster//Event Calendar 2.0//EN
METHOD:PUBLISH
X-PUBLISHED-TTL:P3D
REFRESH-INTERVAL:P3D
CALSCALE:GREGORIAN
BEGIN:VEVENT
DTSTART:20050915T220000Z
DTEND:20050916T000000Z
X-MICROSOFT-CDO-ALLDAYEVENT:FALSE
SUMMARY:2005 Multi-Chamber Business After Hours
DESCRIPTION:
X-ALT-DESC;FMTTYPE=text/html:
LOCATION:The Morton Arboretum\, 4100 Route 53\, Lisle\, IL
UID:e.508.81791
SEQUENCE:3
DTSTAMP:20260420T200153Z
URL:https://business.lombardchamber.com/events/details/2005-multi-chamber-business-after-hours-09-15-2005-81791
END:VEVENT

END:VCALENDAR
