BEGIN:VCALENDAR
VERSION:2.0
PRODID:-//ChamberMaster//Event Calendar 2.0//EN
METHOD:PUBLISH
X-PUBLISHED-TTL:P3D
REFRESH-INTERVAL:P3D
CALSCALE:GREGORIAN
BEGIN:VEVENT
DTSTART:20050727T223000Z
DTEND:20050728T030000Z
X-MICROSOFT-CDO-ALLDAYEVENT:FALSE
SUMMARY:2005 Steak Grill Only
DESCRIPTION:
X-ALT-DESC;FMTTYPE=text/html:
LOCATION:Wester Acres Golf\, 21 W 680 Butterfield Road
UID:e.508.70218
SEQUENCE:3
DTSTAMP:20260420T175717Z
URL:https://business.lombardchamber.com/events/details/2005-steak-grill-only-07-27-2005-70218
END:VEVENT

END:VCALENDAR
