BEGIN:VCALENDAR
VERSION:2.0
PRODID:-//ChamberMaster//Event Calendar 2.0//EN
METHOD:PUBLISH
X-PUBLISHED-TTL:P3D
REFRESH-INTERVAL:P3D
CALSCALE:GREGORIAN
BEGIN:VEVENT
DTSTART:20060419T163000Z
DTEND:20060419T183000Z
X-MICROSOFT-CDO-ALLDAYEVENT:FALSE
SUMMARY:2006 Business Recognition Lunch
DESCRIPTION:
X-ALT-DESC;FMTTYPE=text/html:
LOCATION:The Carlisle\, 435 E. Butterfield Road\, Lombard\, IL 60148
UID:e.508.91071
SEQUENCE:3
DTSTAMP:20260420T192328Z
URL:https://business.lombardchamber.com/events/details/2006-business-recognition-lunch-04-19-2006-91071
END:VEVENT

END:VCALENDAR
