BEGIN:VCALENDAR
VERSION:2.0
PRODID:-//ChamberMaster//Event Calendar 2.0//EN
METHOD:PUBLISH
X-PUBLISHED-TTL:P3D
REFRESH-INTERVAL:P3D
CALSCALE:GREGORIAN
BEGIN:VEVENT
DTSTART;VALUE=DATE:20061213
DTEND;VALUE=DATE:20061214
TRANSP:TRANSPARENT
X-MICROSOFT-CDO-ALLDAYEVENT:TRUE
SUMMARY:2006 Holiday Luncheon
DESCRIPTION:Raffle Prizes and Goody Bag items needed
X-ALT-DESC;FMTTYPE=text/html:Raffle Prizes and Goody Bag items needed
LOCATION:Lindner Conference Center
UID:e.508.101617
SEQUENCE:3
DTSTAMP:20260420T063921Z
URL:https://business.lombardchamber.com/events/details/2006-holiday-luncheon-12-13-2006-101617
END:VEVENT

END:VCALENDAR
