BEGIN:VCALENDAR
VERSION:2.0
PRODID:-//ChamberMaster//Event Calendar 2.0//EN
METHOD:PUBLISH
X-PUBLISHED-TTL:P3D
REFRESH-INTERVAL:P3D
CALSCALE:GREGORIAN
BEGIN:VEVENT
DTSTART:20060712T163000Z
DTEND:20060712T183000Z
X-MICROSOFT-CDO-ALLDAYEVENT:FALSE
SUMMARY:2006 July Luncheon
DESCRIPTION:Skip Strittmatter is the speaker.
X-ALT-DESC;FMTTYPE=text/html:Skip Strittmatter is the speaker.
LOCATION:Greek Islands
UID:e.508.95866
SEQUENCE:3
DTSTAMP:20260420T135720Z
URL:https://business.lombardchamber.com/events/details/2006-july-luncheon-07-12-2006-95866
END:VEVENT

END:VCALENDAR
