BEGIN:VCALENDAR
VERSION:2.0
PRODID:-//ChamberMaster//Event Calendar 2.0//EN
METHOD:PUBLISH
X-PUBLISHED-TTL:P3D
REFRESH-INTERVAL:P3D
CALSCALE:GREGORIAN
BEGIN:VEVENT
DTSTART:20060512T233000Z
DTEND:20060513T045900Z
X-MICROSOFT-CDO-ALLDAYEVENT:FALSE
SUMMARY:2006 Lilac Ball
DESCRIPTION:
X-ALT-DESC;FMTTYPE=text/html:
LOCATION:The Carlisle\, 435 E. Butterfield Road\, Lombard\, IL 60148
UID:e.508.92055
SEQUENCE:3
DTSTAMP:20260420T173801Z
URL:https://business.lombardchamber.com/events/details/2006-lilac-ball-05-12-2006-92055
END:VEVENT

END:VCALENDAR
