BEGIN:VCALENDAR
VERSION:2.0
PRODID:-//ChamberMaster//Event Calendar 2.0//EN
METHOD:PUBLISH
X-PUBLISHED-TTL:P3D
REFRESH-INTERVAL:P3D
CALSCALE:GREGORIAN
BEGIN:VEVENT
DTSTART:20060217T173000Z
DTEND:20060217T193000Z
X-MICROSOFT-CDO-ALLDAYEVENT:FALSE
SUMMARY:2006 Multi-Chamber Economic Outlook Lunch
DESCRIPTION:
X-ALT-DESC;FMTTYPE=text/html:
LOCATION:Oak Brook Hills Marriott Resort\, 3500 Midwest Road\, Oak Brook\, IL
UID:e.508.88821
SEQUENCE:3
DTSTAMP:20260421T004406Z
URL:https://business.lombardchamber.com/events/details/2006-multi-chamber-economic-outlook-lunch-02-17-2006-88821
END:VEVENT

END:VCALENDAR
