BEGIN:VCALENDAR
VERSION:2.0
PRODID:-//ChamberMaster//Event Calendar 2.0//EN
METHOD:PUBLISH
X-PUBLISHED-TTL:P3D
REFRESH-INTERVAL:P3D
CALSCALE:GREGORIAN
BEGIN:VEVENT
DTSTART;VALUE=DATE:20061115
DTEND;VALUE=DATE:20061116
TRANSP:TRANSPARENT
X-MICROSOFT-CDO-ALLDAYEVENT:TRUE
SUMMARY:2006 November Sunrise Schmooze
DESCRIPTION:
X-ALT-DESC;FMTTYPE=text/html:
LOCATION:Parent's Alliance837 S. WestmoreLombard\, IL 60148
UID:e.508.100830
SEQUENCE:3
DTSTAMP:20260420T064224Z
URL:https://business.lombardchamber.com/events/details/2006-november-sunrise-schmooze-11-15-2006-100830
END:VEVENT

END:VCALENDAR
