BEGIN:VCALENDAR
VERSION:2.0
PRODID:-//ChamberMaster//Event Calendar 2.0//EN
METHOD:PUBLISH
X-PUBLISHED-TTL:P3D
REFRESH-INTERVAL:P3D
CALSCALE:GREGORIAN
BEGIN:VEVENT
DTSTART;VALUE=DATE:20061011
DTEND;VALUE=DATE:20061012
TRANSP:TRANSPARENT
X-MICROSOFT-CDO-ALLDAYEVENT:TRUE
SUMMARY:2006 October Luncheon
DESCRIPTION:Emergency PreparednessSpeaker Marta BleichDuPage County Dept. of Homeland Security
X-ALT-DESC;FMTTYPE=text/html:Emergency PreparednessSpeaker Marta BleichDuPage County Dept. of Homeland Security
LOCATION:Weber Grill 11:30 AM
UID:e.508.100211
SEQUENCE:3
DTSTAMP:20260420T084335Z
URL:https://business.lombardchamber.com/events/details/2006-october-luncheon-10-11-2006-100211
END:VEVENT

END:VCALENDAR
