BEGIN:VCALENDAR
VERSION:2.0
PRODID:-//ChamberMaster//Event Calendar 2.0//EN
METHOD:PUBLISH
X-PUBLISHED-TTL:P3D
REFRESH-INTERVAL:P3D
CALSCALE:GREGORIAN
BEGIN:VEVENT
DTSTART;VALUE=DATE:20061018
DTEND;VALUE=DATE:20061019
TRANSP:TRANSPARENT
X-MICROSOFT-CDO-ALLDAYEVENT:TRUE
SUMMARY:2006 October Sunrise Schmooze
DESCRIPTION:Info USA
X-ALT-DESC;FMTTYPE=text/html:Info USA
LOCATION:Egg Harbor Cafe
UID:e.508.100809
SEQUENCE:3
DTSTAMP:20260420T084627Z
URL:https://business.lombardchamber.com/events/details/2006-october-sunrise-schmooze-10-18-2006-100809
END:VEVENT

END:VCALENDAR
