BEGIN:VCALENDAR
VERSION:2.0
PRODID:-//ChamberMaster//Event Calendar 2.0//EN
METHOD:PUBLISH
X-PUBLISHED-TTL:P3D
REFRESH-INTERVAL:P3D
CALSCALE:GREGORIAN
BEGIN:VEVENT
DTSTART;VALUE=DATE:20060913
DTEND;VALUE=DATE:20060914
TRANSP:TRANSPARENT
X-MICROSOFT-CDO-ALLDAYEVENT:TRUE
SUMMARY:2006 September Luncheon
DESCRIPTION:Dave Hulseberg is the speaker
X-ALT-DESC;FMTTYPE=text/html:Dave Hulseberg is the speaker
LOCATION:Greek Islands Restaurant11:30 am
UID:e.508.97760
SEQUENCE:3
DTSTAMP:20260420T101201Z
URL:https://business.lombardchamber.com/events/details/2006-september-luncheon-09-13-2006-97760
END:VEVENT

END:VCALENDAR
