BEGIN:VCALENDAR
VERSION:2.0
PRODID:-//ChamberMaster//Event Calendar 2.0//EN
METHOD:PUBLISH
X-PUBLISHED-TTL:P3D
REFRESH-INTERVAL:P3D
CALSCALE:GREGORIAN
BEGIN:VEVENT
DTSTART:20240701T120000Z
DTEND:20241001T190000Z
X-MICROSOFT-CDO-ALLDAYEVENT:FALSE
SUMMARY:2024 Chamber Golf Outing
DESCRIPTION:Annual Golf Outing!  Sponsor a hole\, Sponsor course contests\, Sponsor a cart and gather your foursome to hit the beautiful links of Klein Creek Golf Course.  This is one of our biggest events of the year that is a ton of fun for a relaxing atmosphere of networking and sport.
X-ALT-DESC;FMTTYPE=text/html:Annual Golf Outing!&nbsp\; Sponsor a hole\, Sponsor course contests\, Sponsor a cart and gather your foursome to hit the beautiful links of Klein Creek Golf Course.&nbsp\; This is one of our biggest events of the year that is a ton of fun for a relaxing atmosphere of networking and sport.<br />\n&nbsp\;
LOCATION:Klein Creek Golf Course 1N333 Pleasant Hill Road Winfield
UID:e.508.128265
SEQUENCE:3
DTSTAMP:20260419T135153Z
URL:https://business.lombardchamber.com/events/details/2024-chamber-golf-outing-128265
END:VEVENT

END:VCALENDAR
