BEGIN:VCALENDAR
VERSION:2.0
PRODID:-//ChamberMaster//Event Calendar 2.0//EN
METHOD:PUBLISH
X-PUBLISHED-TTL:P3D
REFRESH-INTERVAL:P3D
CALSCALE:GREGORIAN
BEGIN:VEVENT
DTSTART:20050420T163000Z
DTEND:20050420T190000Z
X-MICROSOFT-CDO-ALLDAYEVENT:FALSE
SUMMARY:April 2005 Business Recognition Luncheon
DESCRIPTION:
X-ALT-DESC;FMTTYPE=text/html:
LOCATION:The Carlisle\, 435 E. Butterfield Road\, Lombard\, IL 60148
UID:e.508.65424
SEQUENCE:3
DTSTAMP:20260420T104533Z
URL:https://business.lombardchamber.com/events/details/april-2005-business-recognition-luncheon-04-20-2005-65424
END:VEVENT

END:VCALENDAR
