BEGIN:VCALENDAR
VERSION:2.0
PRODID:-//ChamberMaster//Event Calendar 2.0//EN
METHOD:PUBLISH
X-PUBLISHED-TTL:P3D
REFRESH-INTERVAL:P3D
CALSCALE:GREGORIAN
BEGIN:VEVENT
DTSTART:20050818T163000Z
DTEND:20050818T183000Z
X-MICROSOFT-CDO-ALLDAYEVENT:FALSE
SUMMARY:August 2005 Chamber Luncheon
DESCRIPTION:
X-ALT-DESC;FMTTYPE=text/html:
LOCATION:Weber Grill Restaurant\, 2331 Fountain Square\, Lombard\, IL 60148
UID:e.508.71168
SEQUENCE:3
DTSTAMP:20260420T195901Z
URL:https://business.lombardchamber.com/events/details/august-2005-chamber-luncheon-08-18-2005-71168
END:VEVENT

END:VCALENDAR
