BEGIN:VCALENDAR
VERSION:2.0
PRODID:-//ChamberMaster//Event Calendar 2.0//EN
METHOD:PUBLISH
X-PUBLISHED-TTL:P3D
REFRESH-INTERVAL:P3D
CALSCALE:GREGORIAN
BEGIN:VEVENT
DTSTART:20100619T150000Z
DTEND:20100619T160000Z
X-MICROSOFT-CDO-ALLDAYEVENT:FALSE
SUMMARY:Disability Insurance Myths Dispelled
DESCRIPTION:Disability Insurance myths dispelled. Please join Agents  Christian Hoffman and Tim Leonchik Saturday morning for an educational workshop regarding disabilities and how they relate to your savings\, health\, family\, employer benefits\, & social security. Learn how surprisingly affordable options can safe guard incomes and earnings as well as positioning business owners for business continuation in the event of a disability.
X-ALT-DESC;FMTTYPE=text/html:Disability Insurance myths dispelled. Please join Agents  Christian Hoffman and Tim Leonchik Saturday morning for an educational workshop regarding disabilities and how they relate to your savings\, health\, family\, employer benefits\, & social security. Learn how surprisingly affordable options can safe guard incomes and earnings as well as positioning business owners for business continuation in the event of a disability.
LOCATION:Principal Financial Group 700 E Butterfield Rd Suite 400 Lombard IL 60148
UID:e.508.121001
SEQUENCE:3
DTSTAMP:20260424T152649Z
URL:https://business.lombardchamber.com/events/details/disability-insurance-myths-dispelled-06-19-2010-121001
END:VEVENT

END:VCALENDAR
