BEGIN:VCALENDAR
VERSION:2.0
PRODID:-//ChamberMaster//Event Calendar 2.0//EN
METHOD:PUBLISH
X-PUBLISHED-TTL:P3D
REFRESH-INTERVAL:P3D
CALSCALE:GREGORIAN
BEGIN:VEVENT
DTSTART:20060208T173000Z
DTEND:20060208T193000Z
X-MICROSOFT-CDO-ALLDAYEVENT:FALSE
SUMMARY:February 2006 Chamber Lunch
DESCRIPTION:
X-ALT-DESC;FMTTYPE=text/html:
LOCATION:Lexington Square Retirement Community\, 555 Foxworth Boulevard\, Lombard\, IL 60148
UID:e.508.88011
SEQUENCE:3
DTSTAMP:20260421T004638Z
URL:https://business.lombardchamber.com/events/details/february-2006-chamber-lunch-02-08-2006-88011
END:VEVENT

END:VCALENDAR
