BEGIN:VCALENDAR
VERSION:2.0
PRODID:-//ChamberMaster//Event Calendar 2.0//EN
METHOD:PUBLISH
X-PUBLISHED-TTL:P3D
REFRESH-INTERVAL:P3D
CALSCALE:GREGORIAN
BEGIN:VEVENT
DTSTART:20030212T173000Z
DTEND:20030212T173000Z
X-MICROSOFT-CDO-ALLDAYEVENT:FALSE
SUMMARY:February Luncheon
DESCRIPTION:State of the Village Address
X-ALT-DESC;FMTTYPE=text/html:State of the Village Address
LOCATION:The Terrace
UID:e.508.39663
SEQUENCE:3
DTSTAMP:20260425T023625Z
URL:https://business.lombardchamber.com/events/details/february-luncheon-02-12-2003-39663
END:VEVENT

END:VCALENDAR
