BEGIN:VCALENDAR
VERSION:2.0
PRODID:-//ChamberMaster//Event Calendar 2.0//EN
METHOD:PUBLISH
X-PUBLISHED-TTL:P3D
REFRESH-INTERVAL:P3D
CALSCALE:GREGORIAN
BEGIN:VEVENT
DTSTART:20021211T173000Z
DTEND:20021211T173000Z
X-MICROSOFT-CDO-ALLDAYEVENT:FALSE
SUMMARY:Holiday Luncheon 2002
DESCRIPTION:Discovery Bay is catering lunch:  Ceasar Salad\, Chicken Provencal\, double baked  potatoes\, strawberries romanoff\, rolls\, butter\, coffee\, tea\, ice tea.Barbetta Neil is entertaining.
X-ALT-DESC;FMTTYPE=text/html:Discovery Bay is catering lunch:  Ceasar Salad\, Chicken Provencal\, double baked  potatoes\, strawberries romanoff\, rolls\, butter\, coffee\, tea\, ice tea.Barbetta Neil is entertaining.
LOCATION:Lindner Conference Center
UID:e.508.38508
SEQUENCE:3
DTSTAMP:20260425T034156Z
URL:https://business.lombardchamber.com/events/details/holiday-luncheon-2002-12-11-2002-38508
END:VEVENT

END:VCALENDAR
