BEGIN:VCALENDAR
VERSION:2.0
PRODID:-//ChamberMaster//Event Calendar 2.0//EN
METHOD:PUBLISH
X-PUBLISHED-TTL:P3D
REFRESH-INTERVAL:P3D
CALSCALE:GREGORIAN
BEGIN:VEVENT
DTSTART:20030709T163000Z
DTEND:20030709T163000Z
X-MICROSOFT-CDO-ALLDAYEVENT:FALSE
SUMMARY:July 2003 Luncheon
DESCRIPTION:What's the buzz?  Dave Hulseberg\, speaker
X-ALT-DESC;FMTTYPE=text/html:What's the buzz?  Dave Hulseberg\, speaker
LOCATION:Ki's Restaurant
UID:e.508.45020
SEQUENCE:3
DTSTAMP:20260424T172115Z
URL:https://business.lombardchamber.com/events/details/july-2003-luncheon-07-09-2003-45020
END:VEVENT

END:VCALENDAR
