BEGIN:VCALENDAR
VERSION:2.0
PRODID:-//ChamberMaster//Event Calendar 2.0//EN
METHOD:PUBLISH
X-PUBLISHED-TTL:P3D
REFRESH-INTERVAL:P3D
CALSCALE:GREGORIAN
BEGIN:VEVENT
DTSTART:20050713T163000Z
DTEND:20050713T183000Z
X-MICROSOFT-CDO-ALLDAYEVENT:FALSE
SUMMARY:July 2005 Chamber Luncheon
DESCRIPTION:
X-ALT-DESC;FMTTYPE=text/html:
LOCATION:Lilacia Park\, 227 W. Parkside\, Lombard\, IL 60148
UID:e.508.71162
SEQUENCE:3
DTSTAMP:20260420T161010Z
URL:https://business.lombardchamber.com/events/details/july-2005-chamber-luncheon-07-13-2005-71162
END:VEVENT

END:VCALENDAR
