BEGIN:VCALENDAR
VERSION:2.0
PRODID:-//ChamberMaster//Event Calendar 2.0//EN
METHOD:PUBLISH
X-PUBLISHED-TTL:P3D
REFRESH-INTERVAL:P3D
CALSCALE:GREGORIAN
BEGIN:VEVENT
DTSTART:20050608T163000Z
DTEND:20050608T183000Z
X-MICROSOFT-CDO-ALLDAYEVENT:FALSE
SUMMARY:June 2005 Chamber Luncheon
DESCRIPTION:
X-ALT-DESC;FMTTYPE=text/html:
LOCATION:Carlucci's/Downers Grove\, 1801 Butterfield Road\, Downers Grove\, IL 60515
UID:e.508.70215
SEQUENCE:3
DTSTAMP:20260420T143036Z
URL:https://business.lombardchamber.com/events/details/june-2005-chamber-luncheon-06-08-2005-70215
END:VEVENT

END:VCALENDAR
