BEGIN:VCALENDAR
VERSION:2.0
PRODID:-//ChamberMaster//Event Calendar 2.0//EN
METHOD:PUBLISH
X-PUBLISHED-TTL:P3D
REFRESH-INTERVAL:P3D
CALSCALE:GREGORIAN
BEGIN:VEVENT
DTSTART:20060308T173000Z
DTEND:20060308T193000Z
X-MICROSOFT-CDO-ALLDAYEVENT:FALSE
SUMMARY:March 2006 Chamber Lunch
DESCRIPTION:
X-ALT-DESC;FMTTYPE=text/html:
LOCATION:Greek Islands Restaurant\, 300 E. 22nd Street\, Lombard\, IL 60148
UID:e.508.90254
SEQUENCE:3
DTSTAMP:20260420T212728Z
URL:https://business.lombardchamber.com/events/details/march-2006-chamber-lunch-03-08-2006-90254
END:VEVENT

END:VCALENDAR
