BEGIN:VCALENDAR
VERSION:2.0
PRODID:-//ChamberMaster//Event Calendar 2.0//EN
METHOD:PUBLISH
X-PUBLISHED-TTL:P3D
REFRESH-INTERVAL:P3D
CALSCALE:GREGORIAN
BEGIN:VEVENT
DTSTART;VALUE=DATE:20061111
DTEND;VALUE=DATE:20061112
TRANSP:TRANSPARENT
X-MICROSOFT-CDO-ALLDAYEVENT:TRUE
SUMMARY:Member's Forum Invitees
DESCRIPTION:
X-ALT-DESC;FMTTYPE=text/html:
LOCATION:Heron Point Conference CenterI 355 and North Ave.Lombard\, IL 60148
UID:e.508.100447
SEQUENCE:3
DTSTAMP:20260420T063526Z
URL:https://business.lombardchamber.com/events/details/member-s-forum-invitees-11-11-2006-100447
END:VEVENT

END:VCALENDAR
