BEGIN:VCALENDAR
VERSION:2.0
PRODID:-//ChamberMaster//Event Calendar 2.0//EN
METHOD:PUBLISH
X-PUBLISHED-TTL:P3D
REFRESH-INTERVAL:P3D
CALSCALE:GREGORIAN
BEGIN:VEVENT
DTSTART;VALUE=DATE:20061111
DTEND;VALUE=DATE:20061112
TRANSP:TRANSPARENT
X-MICROSOFT-CDO-ALLDAYEVENT:TRUE
SUMMARY:Member's Forum RSVP
DESCRIPTION:
X-ALT-DESC;FMTTYPE=text/html:
LOCATION:
UID:e.508.100858
SEQUENCE:3
DTSTAMP:20260420T063757Z
URL:https://business.lombardchamber.com/events/details/member-s-forum-rsvp-11-11-2006-100858
END:VEVENT

END:VCALENDAR
