BEGIN:VCALENDAR
VERSION:2.0
PRODID:-//ChamberMaster//Event Calendar 2.0//EN
METHOD:PUBLISH
X-PUBLISHED-TTL:P3D
REFRESH-INTERVAL:P3D
CALSCALE:GREGORIAN
BEGIN:VEVENT
DTSTART:20051109T173000Z
DTEND:20051109T193000Z
X-MICROSOFT-CDO-ALLDAYEVENT:FALSE
SUMMARY:November 2005 Chamber Lunch
DESCRIPTION:
X-ALT-DESC;FMTTYPE=text/html:
LOCATION:Discovery Bay at Embassy Suites Hotel\, 707 E. Butterfield Road\, Lombard\, IL 60148
UID:e.508.83710
SEQUENCE:3
DTSTAMP:20260420T232900Z
URL:https://business.lombardchamber.com/events/details/november-2005-chamber-lunch-11-09-2005-83710
END:VEVENT

END:VCALENDAR
