BEGIN:VCALENDAR
VERSION:2.0
PRODID:-//ChamberMaster//Event Calendar 2.0//EN
METHOD:PUBLISH
X-PUBLISHED-TTL:P3D
REFRESH-INTERVAL:P3D
CALSCALE:GREGORIAN
BEGIN:VEVENT
DTSTART;VALUE=DATE:20061108
DTEND;VALUE=DATE:20061109
TRANSP:TRANSPARENT
X-MICROSOFT-CDO-ALLDAYEVENT:TRUE
SUMMARY:November 2006 Luncheon
DESCRIPTION:Guest Speaker Doug Whitley
X-ALT-DESC;FMTTYPE=text/html:Guest Speaker Doug Whitley
LOCATION:The Carlisle
UID:e.508.100867
SEQUENCE:3
DTSTAMP:20260420T063635Z
URL:https://business.lombardchamber.com/events/details/november-2006-luncheon-11-08-2006-100867
END:VEVENT

END:VCALENDAR
