BEGIN:VCALENDAR
VERSION:2.0
PRODID:-//ChamberMaster//Event Calendar 2.0//EN
METHOD:PUBLISH
X-PUBLISHED-TTL:P3D
REFRESH-INTERVAL:P3D
CALSCALE:GREGORIAN
BEGIN:VEVENT
DTSTART:20051020T163000Z
DTEND:20051020T183000Z
X-MICROSOFT-CDO-ALLDAYEVENT:FALSE
SUMMARY:Oct. 20\, 2005 Multi-Chamber Luncheon
DESCRIPTION:
X-ALT-DESC;FMTTYPE=text/html:
LOCATION:Diplomat West Banquet Halls\, 681 W. North Avenue\, Elmhurst\, IL 60126
UID:e.508.82789
SEQUENCE:3
DTSTAMP:20260420T215516Z
URL:https://business.lombardchamber.com/events/details/oct-20-2005-multi-chamber-luncheon-10-20-2005-82789
END:VEVENT

END:VCALENDAR
