BEGIN:VCALENDAR
VERSION:2.0
PRODID:-//ChamberMaster//Event Calendar 2.0//EN
METHOD:PUBLISH
X-PUBLISHED-TTL:P3D
REFRESH-INTERVAL:P3D
CALSCALE:GREGORIAN
BEGIN:VEVENT
DTSTART:20051019T163000Z
DTEND:20051019T170000Z
X-MICROSOFT-CDO-ALLDAYEVENT:FALSE
SUMMARY:October 2005 Chamber Luncheon
DESCRIPTION:
X-ALT-DESC;FMTTYPE=text/html:
LOCATION:Weber Grill Restaurant\, 2331 Fountain Square\, Lombard\, IL 60148
UID:e.508.82348
SEQUENCE:3
DTSTAMP:20260420T215516Z
URL:https://business.lombardchamber.com/events/details/october-2005-chamber-luncheon-10-19-2005-82348
END:VEVENT

END:VCALENDAR
