BEGIN:VCALENDAR
VERSION:2.0
PRODID:-//ChamberMaster//Event Calendar 2.0//EN
METHOD:PUBLISH
X-PUBLISHED-TTL:P3D
REFRESH-INTERVAL:P3D
CALSCALE:GREGORIAN
BEGIN:VEVENT
DTSTART;VALUE=DATE:20021023
DTEND;VALUE=DATE:20021025
TRANSP:TRANSPARENT
X-MICROSOFT-CDO-ALLDAYEVENT:TRUE
SUMMARY:October Character Counts Luncheon
DESCRIPTION:Monthly luncheon
X-ALT-DESC;FMTTYPE=text/html:Monthly luncheon
LOCATION:The Terrace
UID:e.508.37929
SEQUENCE:3
DTSTAMP:20260425T000513Z
URL:https://business.lombardchamber.com/events/details/october-character-counts-luncheon-10-23-2002-37929
END:VEVENT

END:VCALENDAR
