BEGIN:VCALENDAR
VERSION:2.0
PRODID:-//ChamberMaster//Event Calendar 2.0//EN
METHOD:PUBLISH
X-PUBLISHED-TTL:P3D
REFRESH-INTERVAL:P3D
CALSCALE:GREGORIAN
BEGIN:VEVENT
DTSTART;VALUE=DATE:20060906
DTEND;VALUE=DATE:20060907
TRANSP:TRANSPARENT
X-MICROSOFT-CDO-ALLDAYEVENT:TRUE
SUMMARY:Sept. 2006 Sunrise Schmooze
DESCRIPTION:
X-ALT-DESC;FMTTYPE=text/html:
LOCATION:Egg Harbor Restaurant-Yorktown Mall
UID:e.508.99532
SEQUENCE:3
DTSTAMP:20260420T101448Z
URL:https://business.lombardchamber.com/events/details/sept-2006-sunrise-schmooze-09-06-2006-99532
END:VEVENT

END:VCALENDAR
