BEGIN:VCALENDAR
VERSION:2.0
PRODID:-//ChamberMaster//Event Calendar 2.0//EN
METHOD:PUBLISH
X-PUBLISHED-TTL:P3D
REFRESH-INTERVAL:P3D
CALSCALE:GREGORIAN
BEGIN:VEVENT
DTSTART:20050914T163000Z
DTEND:20050914T183000Z
X-MICROSOFT-CDO-ALLDAYEVENT:FALSE
SUMMARY:September 2005 Chamber Luncheon
DESCRIPTION:
X-ALT-DESC;FMTTYPE=text/html:
LOCATION:Holiday Inn/Glen Ellyn\, 1250 Roosevelt Road\, Glen Ellyn\, IL 60137
UID:e.508.75284
SEQUENCE:3
DTSTAMP:20260420T201451Z
URL:https://business.lombardchamber.com/events/details/september-2005-chamber-luncheon-09-14-2005-75284
END:VEVENT

END:VCALENDAR
