BEGIN:VCALENDAR
VERSION:2.0
PRODID:-//ChamberMaster//Event Calendar 2.0//EN
METHOD:PUBLISH
X-PUBLISHED-TTL:P3D
REFRESH-INTERVAL:P3D
CALSCALE:GREGORIAN
BEGIN:VEVENT
DTSTART:20130307T010000Z
DTEND:20130307T030000Z
X-MICROSOFT-CDO-ALLDAYEVENT:FALSE
SUMMARY:Using Standard & Poor's Net Advantage for Your Business
DESCRIPTION:NetAdvantage and it's use as a tool to make better investment and business decisions\, and to understand business\, personal finance\, and economics more effectively will be presented in this program by Dan Sovocool\, the S&P Capital IQ representative for Illinois.
X-ALT-DESC;FMTTYPE=text/html:NetAdvantage and it&#39\;s use as a tool to make better investment and business decisions\, and to understand business\, personal finance\, and economics more effectively will be presented in this program by Dan Sovocool\, the S&amp\;P Capital IQ representative for Illinois.
LOCATION:Helen Plum Library\, 110 W. Maple Street\, Lombard\, IL 60148
UID:e.508.121897
SEQUENCE:3
DTSTAMP:20260424T210316Z
URL:https://business.lombardchamber.com/events/details/using-standard-poor-s-net-advantage-for-your-business-03-06-2013-121897
END:VEVENT

END:VCALENDAR
